BEGIN:VCALENDAR
VERSION:2.0
PRODID:-//OmniMagnetCalendar//EN
BEGIN:VEVENT
DTSTAMP:20190625T195740Z
STATUS:CONFIRMED
UID:capecod.clubs.harvard.edu381
DTSTART:20260218T170000Z
DTEND:20260218T180000Z
LOCATION:Zoom,
SUMMARY:An Update from Harvard Campus
DESCRIPTION:Zoom Event
BEGIN:VALARM
TRIGGER:-PT15M
ACTION:DISPLAY
END:VALARM
TRANSP:OPAQUE
END:VEVENT
END:VCALENDAR
